BEGIN:VCALENDAR
VERSION:2.0
PRODID:-//ChamberMaster//Event Calendar 2.0//EN
METHOD:PUBLISH
X-PUBLISHED-TTL:P3D
REFRESH-INTERVAL:P3D
CALSCALE:GREGORIAN
BEGIN:VEVENT
DTSTART:20260215T000000Z
DTEND:20260215T040000Z
X-MICROSOFT-CDO-ALLDAYEVENT:FALSE
SUMMARY:Youth Alternatives Valentine's Dance
DESCRIPTION:Come join us for our annual fundraiser to help send local youth to camp. Necessary Experience will be playing from 8-11pm. Rip-Off Tickets. 50/50. Kitchen will be open for a short time.
X-ALT-DESC;FMTTYPE=text/html:Come join us for our annual fundraiser to help send local youth to camp. Necessary Experience will be playing from 8-11pm. Rip-Off Tickets. 50/50. Kitchen will be open for a short time.
LOCATION:Oil City Moose Lodge
UID:e.2675.27584
SEQUENCE:3
DTSTAMP:20260423T114937Z
URL:https://www.franklinareachamber.org/events/details/youth-alternatives-valentine-s-dance-02-14-2026-27584
END:VEVENT

END:VCALENDAR
