BEGIN:VCALENDAR
VERSION:2.0
PRODID:-//ChamberMaster//Event Calendar 2.0//EN
METHOD:PUBLISH
X-PUBLISHED-TTL:P3D
REFRESH-INTERVAL:P3D
CALSCALE:GREGORIAN
BEGIN:VEVENT
DTSTART:20260503T160000Z
DTEND:20260503T190000Z
X-MICROSOFT-CDO-ALLDAYEVENT:FALSE
SUMMARY:Yard Sale
DESCRIPTION:The Venango County Historical Society's Annual Spring Yard Sale\n\nAll proceeds benefit the VCHS.\n\nGet great deals on household goods\, antiques\, collectibles\, toys\, furniture & many more items.
X-ALT-DESC;FMTTYPE=text/html:<span style="font-size:16px\;">The Venango County Historical Society&#39\;s Annual Spring Yard Sale</span><br />\nAll proceeds benefit the VCHS.<br />\nGet great deals on household goods\, antiques\, collectibles\, toys\, furniture &amp\; many more items.
LOCATION:
UID:e.2675.28235
SEQUENCE:3
DTSTAMP:20260423T163147Z
URL:https://www.franklinareachamber.org/events/details/yard-sale-05-03-2026-28235
END:VEVENT

END:VCALENDAR
