BEGIN:VCALENDAR
VERSION:2.0
PRODID:-//ChamberMaster//Event Calendar 2.0//EN
METHOD:PUBLISH
X-PUBLISHED-TTL:P3D
REFRESH-INTERVAL:P3D
CALSCALE:GREGORIAN
BEGIN:VEVENT
DTSTART:20260427T230000Z
DTEND:20260428T010000Z
X-MICROSOFT-CDO-ALLDAYEVENT:FALSE
SUMMARY:Under the Same Sky
DESCRIPTION:A Concert for voice\, piano\, oboe\, & English horn.\n\n"Under the Same Sky"\, weaving Yiddish Tangos and fragments from the writings of Etty Hillesum.\n\n\n\nFeaturing:\n\nRaquel Winnica Young\n\nLenny Young\n\nDoug Levine\n\n\n\nEtty Hillesum: poet and philosopher\; her spirituality uplifting diary\, written during the Holocaust\, is infused with inspiring music and song.
X-ALT-DESC;FMTTYPE=text/html:A Concert for voice\, piano\, oboe\, &amp\; English horn.<br />\n&quot\;Under the Same Sky&quot\;\, weaving Yiddish Tangos and fragments from the writings of Etty Hillesum.<br />\n<br />\nFeaturing:<br />\nRaquel Winnica Young<br />\nLenny Young<br />\nDoug Levine<br />\n<br />\nEtty Hillesum: poet and philosopher\; her spirituality uplifting diary\, written during the Holocaust\, is infused with inspiring music and song.
LOCATION:DeBence Antique Music World 1261 Liberty St. Franklin\, PA
UID:e.2675.27688
SEQUENCE:3
DTSTAMP:20260423T151056Z
URL:https://www.franklinareachamber.org/events/details/under-the-same-sky-27688
END:VEVENT

END:VCALENDAR
