BEGIN:VCALENDAR
VERSION:2.0
PRODID:-//ChamberMaster//Event Calendar 2.0//EN
METHOD:PUBLISH
X-PUBLISHED-TTL:P3D
REFRESH-INTERVAL:P3D
CALSCALE:GREGORIAN
BEGIN:VEVENT
DTSTART:20260624T153000Z
DTEND:20260624T173000Z
X-MICROSOFT-CDO-ALLDAYEVENT:FALSE
SUMMARY:Trade Exploration
DESCRIPTION:Thinking about a career in the trades?\n\nStop wondering. Start exploring. Your future could start here.\n\nWelding and machining Trade Exploration.\n\nLearn about career pathways\, local wages\, job opportunities\, different work environments\, and how to get started.\n\nLunch provided.
X-ALT-DESC;FMTTYPE=text/html:Thinking about a career in the trades?<br />\nStop wondering. Start exploring. Your future could start here.<br />\nWelding and machining Trade Exploration.<br />\nLearn about career pathways\, local wages\, job opportunities\, different work environments\, and how to get started.<br />\nLunch provided.
LOCATION:FICDA Training Room 191 Howard St. Franklin\, PA
UID:e.2675.28240
SEQUENCE:3
DTSTAMP:20260423T174627Z
URL:https://www.franklinareachamber.org/events/details/trade-exploration-28240
END:VEVENT

END:VCALENDAR
