BEGIN:VCALENDAR
VERSION:2.0
PRODID:-//ChamberMaster//Event Calendar 2.0//EN
METHOD:PUBLISH
X-PUBLISHED-TTL:P3D
REFRESH-INTERVAL:P3D
CALSCALE:GREGORIAN
BEGIN:VEVENT
DTSTART:20260625T153000Z
DTEND:20260625T173000Z
X-MICROSOFT-CDO-ALLDAYEVENT:FALSE
SUMMARY:Trade Exploration
DESCRIPTION:Thinking about a career in the trades?\n\nStop wondering. Start exploring. Your future could start here.\n\nWelding and machining Trade Exploration.\n\nStep into the shop: live demonstrations & guided hands-on activates.
X-ALT-DESC;FMTTYPE=text/html:Thinking about a career in the trades?<br />\nStop wondering. Start exploring. Your future could start here.<br />\nWelding and machining Trade Exploration.<br />\nStep into the shop: live demonstrations &amp\; guided hands-on activates.
LOCATION:Venango Technology Center 1 Vo Tech Dr. Oil City\, PA
UID:e.2675.28241
SEQUENCE:3
DTSTAMP:20260423T174848Z
URL:https://www.franklinareachamber.org/events/details/trade-exploration-06-25-2026-28241
END:VEVENT

END:VCALENDAR
