BEGIN:VCALENDAR
VERSION:2.0
PRODID:-//ChamberMaster//Event Calendar 2.0//EN
METHOD:PUBLISH
X-PUBLISHED-TTL:P3D
REFRESH-INTERVAL:P3D
CALSCALE:GREGORIAN
BEGIN:VEVENT
DTSTART:20260423T190000Z
DTEND:20260423T200000Z
X-MICROSOFT-CDO-ALLDAYEVENT:FALSE
SUMMARY:The Mommy's Milk Rocks Breastfeeding Circle
DESCRIPTION:A safe space to connect\, learn\, and thrive.\n\nFree snacks\, drinks\, and childcare.
X-ALT-DESC;FMTTYPE=text/html:A safe space to connect\, learn\, and thrive.<br />\nFree snacks\, drinks\, and childcare.
LOCATION:Franklin Pediatric Associates 110 N 13th St. Franklin\, PA
UID:e.2675.28258
SEQUENCE:3
DTSTAMP:20260422T090027Z
URL:https://www.franklinareachamber.org/events/details/the-mommy-s-milk-rocks-breastfeeding-circle-28258
END:VEVENT

END:VCALENDAR
