BEGIN:VCALENDAR
VERSION:2.0
PRODID:-//ChamberMaster//Event Calendar 2.0//EN
METHOD:PUBLISH
X-PUBLISHED-TTL:P3D
REFRESH-INTERVAL:P3D
CALSCALE:GREGORIAN
BEGIN:VEVENT
DTSTART:20260425T153000Z
DTEND:20260425T170000Z
X-MICROSOFT-CDO-ALLDAYEVENT:FALSE
SUMMARY:Spring Fashion Show
DESCRIPTION:Something Clever and Bella Cucina's Spring Fashion Show\n\nPrivate shopping\, lunch and beverages.\n\nLimited seating available.
X-ALT-DESC;FMTTYPE=text/html:Something Clever and Bella Cucina&#39\;s Spring Fashion Show<br />\nPrivate shopping\, lunch and beverages.<br />\nLimited seating available.
LOCATION:
UID:e.2675.28245
SEQUENCE:3
DTSTAMP:20260423T150640Z
URL:https://www.franklinareachamber.org/events/details/spring-fashion-show-28245
END:VEVENT

END:VCALENDAR
