BEGIN:VCALENDAR
VERSION:2.0
PRODID:-//ChamberMaster//Event Calendar 2.0//EN
METHOD:PUBLISH
X-PUBLISHED-TTL:P3D
REFRESH-INTERVAL:P3D
CALSCALE:GREGORIAN
BEGIN:VEVENT
DTSTART:20260411T143000Z
DTEND:20260411T170000Z
X-MICROSOFT-CDO-ALLDAYEVENT:FALSE
SUMMARY:Spring Fashion Show
DESCRIPTION:Spring Fashions by:\n\nSassy's Clothing & Gift Boutique\n\nCali Rae Haute Spot\n\n\n\nDoor prizes and the presentation of the ZONTA Women Empowerment Award.\n\n\n\nBrunch served by Haggerty's Ice Cream & More\n\nCash Bar: Bloody Mary Bar\, Mimosas\, Wine & Beer\n\n\n\nBenefits the Franklin Barrow Civic Theatre
X-ALT-DESC;FMTTYPE=text/html:Spring Fashions by:<br />\nSassy&#39\;s Clothing &amp\; Gift Boutique<br />\nCali Rae Haute Spot<br />\n<br />\nDoor prizes and the presentation of the ZONTA Women Empowerment Award.<br />\n<br />\nBrunch served by Haggerty&#39\;s Ice Cream &amp\; More<br />\nCash Bar: Bloody Mary Bar\, Mimosas\, Wine &amp\; Beer<br />\n<br />\nBenefits the Franklin Barrow Civic Theatre
LOCATION:
UID:e.2675.27668
SEQUENCE:3
DTSTAMP:20260423T151345Z
URL:https://www.franklinareachamber.org/events/details/spring-fashion-show-27668
END:VEVENT

END:VCALENDAR
