BEGIN:VCALENDAR
VERSION:2.0
PRODID:-//ChamberMaster//Event Calendar 2.0//EN
METHOD:PUBLISH
X-PUBLISHED-TTL:P3D
REFRESH-INTERVAL:P3D
CALSCALE:GREGORIAN
BEGIN:VEVENT
DTSTART:20260429T213000Z
DTEND:20260429T233000Z
X-MICROSOFT-CDO-ALLDAYEVENT:FALSE
SUMMARY:Second Step: Developing a Business Plan
DESCRIPTION:Training Topics: Business Plan\, Business Start-up/Preplanning\, Managing a Business\n\nDescription:\n\nMost financing options require a solid business plan. Learn all you need to know about operational and production planning\, conducting market research and creating financial spreadsheets to attract funding for your business.
X-ALT-DESC;FMTTYPE=text/html:<span style="font-size:14px\;"><span style="font-family:arial\;"><label style="font-weight: bold\; line-height: 20px\; font-family: Lato\, Arial\, Helvetica\, sans-serif\; font-size: 16px\;">Training Topics:</label>&nbsp\;Business Plan\, Business Start-up/Preplanning\, Managing a Business<br style="font-family: Lato\, Arial\, Helvetica\, sans-serif\; font-size: 16px\;" />\n<label style="font-weight: bold\; line-height: 20px\; font-family: Lato\, Arial\, Helvetica\, sans-serif\; font-size: 16px\;">Description:</label></span></span>\n<div class="conf-desc" style="padding-top: 0px\; padding-bottom: 10px\; font-family: Lato\, Arial\, Helvetica\, sans-serif\; font-size: 16px\;">\n<p style="margin-top: 0px\; margin-bottom: 10px\; line-height: 23.2px\;"><span style="font-size:14px\;"><span style="font-family:arial\;">Most financing options require a solid business plan. Learn all you need to know about operational and production planning\, conducting market research and creating financial spreadsheets to attract funding for your business.</span></span></p>\n</div>\n
LOCATION:Webinar
UID:e.2675.28239
SEQUENCE:3
DTSTAMP:20260423T150451Z
URL:https://www.franklinareachamber.org/events/details/second-step-developing-a-business-plan-28239
END:VEVENT

END:VCALENDAR
