BEGIN:VCALENDAR
VERSION:2.0
PRODID:-//ChamberMaster//Event Calendar 2.0//EN
METHOD:PUBLISH
X-PUBLISHED-TTL:P3D
REFRESH-INTERVAL:P3D
CALSCALE:GREGORIAN
BEGIN:VEVENT
DTSTART:20260424T213000Z
DTEND:20260425T010000Z
X-MICROSOFT-CDO-ALLDAYEVENT:FALSE
SUMMARY:Rocky Grove's a Night at the Races
DESCRIPTION:Grab your tickets and join the action!\n\n21+ | BYOB\n\nMad Mac BBQ & non-alcoholic drinks included in ticket.\n\n5:30 Doors open | 7 First Race\n\n\n\nProceeds Benefit Rocky Grove Travel Club's upcoming trips to London\, Paris\, and Rome in 2026\, as well as PBIS trips for Rocky Grove High School's PBIS Program.
X-ALT-DESC;FMTTYPE=text/html:Grab your tickets and join the action!<br />\n21+ | BYOB<br />\nMad Mac BBQ &amp\; non-alcoholic drinks included in ticket.<br />\n5:30 Doors open | 7 First Race<br />\n<br />\nProceeds Benefit Rocky Grove Travel Club&#39\;s upcoming trips to London\, Paris\, and Rome in 2026\, as well as PBIS trips for Rocky Grove High School&#39\;s PBIS Program.
LOCATION:29 Shuffstall St. Franklin\, PA
UID:e.2675.28232
SEQUENCE:3
DTSTAMP:20260423T150824Z
URL:https://www.franklinareachamber.org/events/details/rocky-grove-s-a-night-at-the-races-28232
END:VEVENT

END:VCALENDAR
