BEGIN:VCALENDAR
VERSION:2.0
PRODID:-//ChamberMaster//Event Calendar 2.0//EN
METHOD:PUBLISH
X-PUBLISHED-TTL:P3D
REFRESH-INTERVAL:P3D
CALSCALE:GREGORIAN
BEGIN:VEVENT
DTSTART:20260509T150000Z
DTEND:20260509T170000Z
X-MICROSOFT-CDO-ALLDAYEVENT:FALSE
SUMMARY:Preschool Prom
DESCRIPTION:Get fancy & danc-y! Attendees are invited to get dressed up\, dance\, and make paper crowns. This program is free & open to ages 1 to 6\, accompanied by their caregivers.\n\nRegistration Required
X-ALT-DESC;FMTTYPE=text/html:Get fancy &amp\; danc-y! Attendees are invited to get dressed up\, dance\, and make paper crowns. This program is free &amp\; open to ages 1 to 6\, accompanied by their caregivers.<br />\nRegistration Required
LOCATION:ORLA's Oil City Library Library Hall 2 Central Ave Oil City\, PA
UID:e.2675.28219
SEQUENCE:3
DTSTAMP:20260423T164502Z
URL:https://www.franklinareachamber.org/events/details/preschool-prom-28219
END:VEVENT

END:VCALENDAR
