BEGIN:VCALENDAR
VERSION:2.0
PRODID:-//ChamberMaster//Event Calendar 2.0//EN
METHOD:PUBLISH
X-PUBLISHED-TTL:P3D
REFRESH-INTERVAL:P3D
CALSCALE:GREGORIAN
BEGIN:VEVENT
DTSTART:20260423T140000Z
DTEND:20260423T160000Z
X-MICROSOFT-CDO-ALLDAYEVENT:FALSE
SUMMARY:OSHA: Personal Protective Equipment
DESCRIPTION:Training Topics: Business Start-up/Preplanning\, Human Resources/Managing Employees\, Managing a Business\, Manufacturing/Onshoring\, Other\, Risk Management\n\nDescription:\n\nProper use of Personal Protective Equipment (PPE) is a critical component of workplace safety and OSHA compliance. This webinar will cover OSHA PPE standards\, how to conduct effective hazard assessments\, and how to select and maintain the right protective equipment. Attendees will also learn about employee training requirements and newer considerations\, including ensuring proper fit for today's diverse workforce.\n\nSpeakers:\n\nMark Harmon\, Compliance Assistance Specialist (CAS)\, Federal OSHA Erie Area Office\n\nDavid M. Yanoschick Jr.\, CSP\, SHARP Outreach Coordinator\, PA OSHA Consultation Program\, Indiana University of Pennsylvania
X-ALT-DESC;FMTTYPE=text/html:<span style="font-size:14px\;"><span style="font-family:arial\;"><label style="font-weight: bold\; line-height: 20px\; color: rgb(0\, 0\, 0)\; font-family: Lato\, Arial\, Helvetica\, sans-serif\; font-size: 16px\;">Training Topics:</label><span style="color: rgb(0\, 0\, 0)\;">&nbsp\;Business Start-up/Preplanning\, Human Resources/Managing Employees\, Managing a Business\, Manufacturing/Onshoring\, Other\, Risk Management</span><br style="color: rgb(0\, 0\, 0)\; font-family: Lato\, Arial\, Helvetica\, sans-serif\; font-size: 16px\;" />\n<label style="font-weight: bold\; line-height: 20px\; color: rgb(0\, 0\, 0)\; font-family: Lato\, Arial\, Helvetica\, sans-serif\; font-size: 16px\;">Description:</label></span></span>\n<div class="conf-desc" style="padding-top: 0px\; padding-bottom: 10px\; color: rgb(0\, 0\, 0)\; font-family: Lato\, Arial\, Helvetica\, sans-serif\; font-size: 16px\;">\n<p style="margin-top: 0px\; margin-bottom: 10px\; line-height: 23.2px\;"><span style="font-size:14px\;"><span style="font-family:arial\;">Proper use of Personal Protective Equipment (PPE) is a critical component of workplace safety and OSHA compliance. This webinar will cover OSHA PPE standards\, how to conduct effective hazard assessments\, and how to select and maintain the right protective equipment. Attendees will also learn about employee training requirements and newer considerations\, including ensuring proper fit for today&rsquo\;s diverse workforce.</span></span></p>\n\n<div><span style="font-size:14px\;"><span style="font-family:arial\;">Speakers:</span></span></div>\n\n<div><span style="font-size:14px\;"><span style="font-family:arial\;"><strong>Mark Harmon</strong>\, Compliance Assistance Specialist (CAS)\, Federal OSHA Erie Area Office</span></span></div>\n\n<div><span style="font-size:14px\;"><span style="font-family:arial\;"><strong>David M. Yanoschick Jr</strong>.\, CSP\,&nbsp\;SHARP Outreach Coordinator\, PA OSHA Consultation Program\,&nbsp\;Indiana University of Pennsylvania</span></span></div>\n</div>\n
LOCATION:Webinar
UID:e.2675.28238
SEQUENCE:3
DTSTAMP:20260422T092533Z
URL:https://www.franklinareachamber.org/events/details/osha-personal-protective-equipment-28238
END:VEVENT

END:VCALENDAR
