BEGIN:VCALENDAR
VERSION:2.0
PRODID:-//ChamberMaster//Event Calendar 2.0//EN
METHOD:PUBLISH
X-PUBLISHED-TTL:P3D
REFRESH-INTERVAL:P3D
CALSCALE:GREGORIAN
BEGIN:VEVENT
DTSTART:20260514T220000Z
DTEND:20260515T000000Z
X-MICROSOFT-CDO-ALLDAYEVENT:FALSE
SUMMARY:Oil Region Historic Preservation Awards
DESCRIPTION:The public is invited to join the Oil Region Alliance in celebrating the winners of the 2026 Historic Preservation Awards.\n\nWinners will be announced here soon then presented certificates and citations live at the event along with slide shows of before and after photos documenting each honoree.\n\nThis event is free and open to the public. RSVPs are appreciated to Raven Nespor
X-ALT-DESC;FMTTYPE=text/html:<div class="xdj266r x14z9mp xat24cr x1lziwak x1vvkbs" style="margin-inline: 0px\; overflow-wrap: break-word\; margin-bottom: 0px\; margin-top: 0px\; font-family: &quot\;Segoe UI Historic&quot\;\, &quot\;Segoe UI&quot\;\, Helvetica\, Arial\, sans-serif\; color: rgb(8\, 8\, 9)\; font-size: 15px\; background-color: rgb(255\, 255\, 255)\;"><span style="font-size:14px\;"><span style="font-family:arial\;">The public is invited to join the Oil Region Alliance in celebrating the winners of the 2026 Historic Preservation Awards.</span></span></div>\n\n<div class="x14z9mp xat24cr x1lziwak x1vvkbs xtlvy1s" style="margin-inline: 0px\; overflow-wrap: break-word\; margin-bottom: 0px\; margin-top: 0.5em\; font-family: &quot\;Segoe UI Historic&quot\;\, &quot\;Segoe UI&quot\;\, Helvetica\, Arial\, sans-serif\; color: rgb(8\, 8\, 9)\; font-size: 15px\; background-color: rgb(255\, 255\, 255)\;"><span style="font-size:14px\;"><span style="font-family:arial\;">Winners will be announced here soon then presented certificates and citations live at the event along with slide shows of before and after photos documenting each honoree.</span></span></div>\n\n<div class="x14z9mp xat24cr x1lziwak x1vvkbs xtlvy1s" style="margin-inline: 0px\; overflow-wrap: break-word\; margin-bottom: 0px\; margin-top: 0.5em\; font-family: &quot\;Segoe UI Historic&quot\;\, &quot\;Segoe UI&quot\;\, Helvetica\, Arial\, sans-serif\; color: rgb(8\, 8\, 9)\; font-size: 15px\; background-color: rgb(255\, 255\, 255)\;"><span style="font-size:14px\;"><span style="font-family:arial\;">This event is free and open to the public. RSVPs are appreciated to Raven Nespor</span></span></div>\n
LOCATION:Oil Region Venango Campus 1801 West First St. Oil City\, PA
UID:e.2675.28227
SEQUENCE:3
DTSTAMP:20260423T163320Z
URL:https://www.franklinareachamber.org/events/details/oil-region-historic-preservation-awards-28227
END:VEVENT

END:VCALENDAR
