BEGIN:VCALENDAR
VERSION:2.0
PRODID:-//ChamberMaster//Event Calendar 2.0//EN
METHOD:PUBLISH
X-PUBLISHED-TTL:P3D
REFRESH-INTERVAL:P3D
CALSCALE:GREGORIAN
BEGIN:VEVENT
DTSTART:20260417T233000Z
DTEND:20260418T020000Z
X-MICROSOFT-CDO-ALLDAYEVENT:FALSE
SUMMARY:Murder on the Orient Express
DESCRIPTION:Murder on the Orient Express is undoubtedly one of Agatha Christie's greatest mystery novels. Just after midnight\, a snowdrift stops the Orient Express in its tracks. The luxurious train is surprisingly full for the time of the year\, but by the morning it is one passenger fewer. An American tycoon lies dead in his compartment\, stabbed a dozen times\, his door locked from the inside. Isolated and with a killer in their midst\, detective Hercule Poirot must identify the murderer   in case he or she decides to strike again.\n\nRated - PG
X-ALT-DESC;FMTTYPE=text/html:<p style="box-sizing: border-box\; margin-top: 0px\; margin-bottom: 0.25rem\; color: rgb(33\, 37\, 41)\; font-family: -apple-system\, BlinkMacSystemFont\, &quot\;Segoe UI&quot\;\, Roboto\, &quot\;Helvetica Neue&quot\;\, Arial\, sans-serif\, &quot\;Apple Color Emoji&quot\;\, &quot\;Segoe UI Emoji&quot\;\, &quot\;Segoe UI Symbol&quot\;\; font-size: 16px\;"><span style="font-size:14px\;">Murder on the Orient Express is undoubtedly one of Agatha Christie&#39\;s greatest mystery novels. Just after midnight\, a snowdrift stops the Orient Express in its tracks. The luxurious train is surprisingly full for the time of the year\, but by the morning it is one passenger fewer. An American tycoon lies dead in his compartment\, stabbed a dozen times\, his door locked from the inside. Isolated and with a killer in their midst\, detective Hercule Poirot must identify the murderer &ndash\; in case he or she decides to strike again.</span></p>\n\n<p style="box-sizing: border-box\; margin-top: 0px\; margin-bottom: 0.25rem\; color: rgb(33\, 37\, 41)\; font-family: -apple-system\, BlinkMacSystemFont\, &quot\;Segoe UI&quot\;\, Roboto\, &quot\;Helvetica Neue&quot\;\, Arial\, sans-serif\, &quot\;Apple Color Emoji&quot\;\, &quot\;Segoe UI Emoji&quot\;\, &quot\;Segoe UI Symbol&quot\;\; font-size: 16px\;"><span style="font-size:14px\;"><em style="box-sizing: border-box\;">Rated - PG</em></span></p>\n
LOCATION:Barrow-Civic Theatre 1223 Liberty St. Franklin\, PA
UID:e.2675.27697
SEQUENCE:3
DTSTAMP:20260423T151102Z
URL:https://www.franklinareachamber.org/events/details/murder-on-the-orient-express-27697
END:VEVENT

END:VCALENDAR
