BEGIN:VCALENDAR
VERSION:2.0
PRODID:-//ChamberMaster//Event Calendar 2.0//EN
METHOD:PUBLISH
X-PUBLISHED-TTL:P3D
REFRESH-INTERVAL:P3D
CALSCALE:GREGORIAN
BEGIN:VEVENT
DTSTART:20260510T143000Z
DTEND:20260510T200000Z
X-MICROSOFT-CDO-ALLDAYEVENT:FALSE
SUMMARY:Mother's Day Brunch
DESCRIPTION:Wanango Country Club is hosting a special Brunch Buffet.\n\nOpen to the public\, buffet offerings are:\n\nPrime Rib Carving Station\, Pork Ribeye\, Scrambled Eggs\n\nEggs Benedict\, Bacon\, Sausage\, Home Fries\n\nRoasted Potatoes\, French Toast Sticks\n\nSausage Gravy & Biscuits\, Roasted Vegetables\n\nGarden Salad\, Fruit Salad\, Assorted Desserts\n\n\n\nSeating times are 10:30 am\, 12:30 pm\, and 2:30 pm\n\nReservations Required.
X-ALT-DESC;FMTTYPE=text/html:Wanango Country Club is hosting a special Brunch Buffet.<br />\nOpen to the public\, buffet offerings are:<br />\nPrime Rib Carving Station\, Pork Ribeye\, Scrambled Eggs<br />\nEggs Benedict\, Bacon\, Sausage\, Home Fries<br />\nRoasted Potatoes\, French Toast Sticks<br />\nSausage Gravy &amp\; Biscuits\, Roasted Vegetables<br />\nGarden Salad\, Fruit Salad\, Assorted Desserts<br />\n<br />\nSeating times are 10:30 am\, 12:30 pm\, and 2:30 pm<br />\nReservations Required.
LOCATION:Wanango Country Club 314 Chestnut St. Reno\, PA
UID:e.2675.28230
SEQUENCE:3
DTSTAMP:20260423T162919Z
URL:https://www.franklinareachamber.org/events/details/mother-s-day-brunch-28230
END:VEVENT

END:VCALENDAR
