BEGIN:VCALENDAR
VERSION:2.0
PRODID:-//ChamberMaster//Event Calendar 2.0//EN
METHOD:PUBLISH
X-PUBLISHED-TTL:P3D
REFRESH-INTERVAL:P3D
CALSCALE:GREGORIAN
BEGIN:VEVENT
DTSTART:20260515T140000Z
DTEND:20260515T190000Z
X-MICROSOFT-CDO-ALLDAYEVENT:FALSE
SUMMARY:Mental Health Resource Fair
DESCRIPTION:Venango County Human Services will hold a Mental Health Resource Fair on Friday\, May 15\, 2026\, at Bandstand Park in Franklin. Meet local organizations\, explore wellness tools\, and learn how our community is coming together to support mental health for all.
X-ALT-DESC;FMTTYPE=text/html:<span style="font-size:14px\;"><span style="font-family:arial\;"><span style="color: rgb(8\, 8\, 9)\; white-space-collapse: preserve\; background-color: rgb(255\, 255\, 255)\;">Venango County Human Services will hold a Mental Health Resource Fair on Friday\, May 15\, 2026\, at Bandstand Park in Franklin. Meet local organizations\, explore wellness tools\, and learn how our community is coming together to support mental health for all.</span></span></span>
LOCATION:Bandstand Park Franklin\, PA
UID:e.2675.28212
SEQUENCE:3
DTSTAMP:20260423T163034Z
URL:https://www.franklinareachamber.org/events/details/mental-health-resource-fair-28212
END:VEVENT

END:VCALENDAR
