BEGIN:VCALENDAR
VERSION:2.0
PRODID:-//ChamberMaster//Event Calendar 2.0//EN
METHOD:PUBLISH
X-PUBLISHED-TTL:P3D
REFRESH-INTERVAL:P3D
CALSCALE:GREGORIAN
BEGIN:VEVENT
DTSTART:20260513T210000Z
DTEND:20260513T230000Z
X-MICROSOFT-CDO-ALLDAYEVENT:FALSE
SUMMARY:License Plate Replacement Event
DESCRIPTION:If your standard license plate is blistered\, peeling or discolored\, we will have the required paperwork to fill out. There is no fee for this service. Bring your vehicle and registration card with the affected plate\, and an officer with the Titusville City Police Department will be available to help complete the application.
X-ALT-DESC;FMTTYPE=text/html:If your standard license plate is blistered\, peeling or discolored\, we will have the required paperwork to fill out. There is no fee for this service. Bring your vehicle and registration card with the affected plate\, and an officer with the Titusville City Police Department will be available to help complete the application.
LOCATION:City of Titusville Municipal Parking Lot
UID:e.2675.28236
SEQUENCE:3
DTSTAMP:20260423T162655Z
URL:https://www.franklinareachamber.org/events/details/license-plate-replacement-event-28236
END:VEVENT

END:VCALENDAR
