BEGIN:VCALENDAR
VERSION:2.0
PRODID:-//ChamberMaster//Event Calendar 2.0//EN
METHOD:PUBLISH
X-PUBLISHED-TTL:P3D
REFRESH-INTERVAL:P3D
CALSCALE:GREGORIAN
BEGIN:VEVENT
DTSTART:20260409T140000Z
DTEND:20260409T190000Z
X-MICROSOFT-CDO-ALLDAYEVENT:FALSE
SUMMARY:Job Fair
DESCRIPTION:Career Link is hosting a job fair with University of Pittsburgh at Titusville.\n\nStudents and veterans only for the first hour (10 - 11 a.m.)
X-ALT-DESC;FMTTYPE=text/html:<span style="font-size:16px\;">Career Link is hosting a job fair with University of Pittsburgh at Titusville.<br />\n<span style="font-size:14px\;">Students and veterans only for the first hour (10 - 11 a.m.)</span></span>
LOCATION:Boomer Lounge University of Pittsburgh at Titusville 504 E main St. Titusville\, PA
UID:e.2675.27621
SEQUENCE:3
DTSTAMP:20260423T151132Z
URL:https://www.franklinareachamber.org/events/details/job-fair-27621
END:VEVENT

END:VCALENDAR
