BEGIN:VCALENDAR
VERSION:2.0
PRODID:-//ChamberMaster//Event Calendar 2.0//EN
METHOD:PUBLISH
X-PUBLISHED-TTL:P3D
REFRESH-INTERVAL:P3D
CALSCALE:GREGORIAN
BEGIN:VEVENT
DTSTART:20260221T003000Z
DTEND:20260221T030000Z
X-MICROSOFT-CDO-ALLDAYEVENT:FALSE
SUMMARY:I Love You\, You're Perfect\, Now Change
DESCRIPTION:February 13\,14\, 20 & 21 at 7:30pm | February 15 & 22 at 2:00pm\, Rated PG 13\n\nA hilarious musical about the ups\, downs\, and unexpected twists of modern love. Through sketches and songs\, the show explores the journey from dating and waiting to love and marriage\, and the agonies and triumphs of in-laws and newborns. This revue pays tribute to those who have loved and lost\, to those who have fallen flat at the portal of romance\, and to those who dared to ask\, "Say\, what are you doing Saturday night?"
X-ALT-DESC;FMTTYPE=text/html:<span style="font-family:arial\;"><span style="font-size:14px\;"><span style="font-size:16px\;"><span style="box-sizing: border-box\; font-weight: bolder\; color: rgb(33\, 37\, 41)\;">February 13\,14\, 20 &amp\; 21 at 7:30pm | February 15 &amp\; 22 at 2:00pm\, Rated PG 13</span></span><br />\n<span style="color: rgb(33\, 37\, 41)\;">A hilarious musical about the ups\, downs\, and unexpected twists of modern love. Through sketches and songs\, the show explores the journey from dating and waiting to love and marriage\, and the agonies and triumphs of in-laws and newborns. This revue pays tribute to those who have loved and lost\, to those who have fallen flat at the portal of romance\, and to those who dared to ask\, &ldquo\;Say\, what are you doing Saturday night?&rdquo\;</span></span></span>
LOCATION:Barrow Civic Theatre 1223 Liberty St. Franklin\, PA
UID:e.2675.27599
SEQUENCE:3
DTSTAMP:20260423T121350Z
URL:https://www.franklinareachamber.org/events/details/i-love-you-you-re-perfect-now-change-02-20-2026-27599
END:VEVENT

END:VCALENDAR
