BEGIN:VCALENDAR
VERSION:2.0
PRODID:-//ChamberMaster//Event Calendar 2.0//EN
METHOD:PUBLISH
X-PUBLISHED-TTL:P3D
REFRESH-INTERVAL:P3D
CALSCALE:GREGORIAN
BEGIN:VEVENT
DTSTART:20260530T130000Z
DTEND:20260530T170000Z
X-MICROSOFT-CDO-ALLDAYEVENT:FALSE
SUMMARY:Household Hazardous and Electronic Waste
DESCRIPTION:Venango County's Household Hazardous and Electronic Waste Collection Day\n\nRegistration required
X-ALT-DESC;FMTTYPE=text/html:Venango County&#39\;s Household Hazardous and Electronic Waste Collection Day<br />\nRegistration required
LOCATION:134 Hangar Dr. Franklin\, PA
UID:e.2675.28220
SEQUENCE:3
DTSTAMP:20260423T164014Z
URL:https://www.franklinareachamber.org/events/details/household-hazardous-and-electronic-waste-28220
END:VEVENT

END:VCALENDAR
