BEGIN:VCALENDAR
VERSION:2.0
PRODID:-//ChamberMaster//Event Calendar 2.0//EN
METHOD:PUBLISH
X-PUBLISHED-TTL:P3D
REFRESH-INTERVAL:P3D
CALSCALE:GREGORIAN
BEGIN:VEVENT
DTSTART:20260403T203000Z
DTEND:20260403T223000Z
X-MICROSOFT-CDO-ALLDAYEVENT:FALSE
SUMMARY:Friday Fish Fry Series - St. Patrick Parish
DESCRIPTION:Join us every Friday during Lent ? February 20 through April 3 ? from 4:30?6:30 p.m. for our beloved Friday Fish Fry! For just $12 per adult\, enjoy delicious fried or broiled cod\, crispy French fries\, creamy mac & cheese\, fresh coleslaw\, a hearty baked potato\, and a tempting selection of homemade\, from-scratch desserts. Our skilled and locally renowned chefs take pride in serving a meal you won?t want to miss. Dine-in or take-out available St. Patrick School 952 Buffalo Street\, Franklin Bring your family and friends ? and make Friday nights a Lenten tradition at St. Patrick Parish!\n\n\n\nSponsored by Edward Jones Rakow Wealth Management Group
X-ALT-DESC;FMTTYPE=text/html:Join us every Friday during Lent ? February 20 through April 3 ? from 4:30?6:30 p.m. for our beloved Friday Fish Fry! For just $12 per adult\, enjoy delicious fried or broiled cod\, crispy French fries\, creamy mac &amp\; cheese\, fresh coleslaw\, a hearty baked potato\, and a tempting selection of homemade\, from-scratch desserts. Our skilled and locally renowned chefs take pride in serving a meal you won?t want to miss. Dine-in or take-out available St. Patrick School 952 Buffalo Street\, Franklin Bring your family and friends ? and make Friday nights a Lenten tradition at St. Patrick Parish!<br />\n<br />\nSponsored by&nbsp\;<!--StartFragment--><strong><span data-olk-copy-source="MessageBody">Edward Jones Rakow Wealth Management Group</span></strong><!--EndFragment-->
LOCATION:952 Buffalo Street\, Franklin
UID:e.2675.27645
SEQUENCE:3
DTSTAMP:20260423T151514Z
URL:https://www.franklinareachamber.org/events/details/friday-fish-fry-series-st-patrick-parish-04-03-2026-27645
END:VEVENT

END:VCALENDAR
