BEGIN:VCALENDAR
VERSION:2.0
PRODID:-//ChamberMaster//Event Calendar 2.0//EN
METHOD:PUBLISH
X-PUBLISHED-TTL:P3D
REFRESH-INTERVAL:P3D
CALSCALE:GREGORIAN
BEGIN:VEVENT
DTSTART:20260606T150000Z
DTEND:20260606T170000Z
X-MICROSOFT-CDO-ALLDAYEVENT:FALSE
SUMMARY:Forest & Flow with Emily and Ashleigh
DESCRIPTION:Step outside\, slow down\, and reconnect.\n\nJoin us for Forest & Flow a guided outdoor experience combining movement\, nature\, and education. Emily will lead a scenic hike around Clark's Summit\, joined by special guest\, Forester Beth from Hickman Woods\, who will share insight on the local vegetation and surrounding ecosystem along the way. Once we make our way back to the summit\, Ashleigh will guide a 45-minute yoga flow overlooking the beautiful landscape.\n\nWe'll meet and depart at 11:00 AM. Expect around a 2-hour experience.\n\nAges 16+ only. Please bring a yoga mat or towel and water.\n\nSign up on the MindBody app\n\nRain date TBD
X-ALT-DESC;FMTTYPE=text/html:<div class="xdj266r x14z9mp xat24cr x1lziwak x1vvkbs" style="margin-inline: 0px\; overflow-wrap: break-word\; margin-bottom: 0px\; margin-top: 0px\; font-family: &quot\;Segoe UI Historic&quot\;\, &quot\;Segoe UI&quot\;\, Helvetica\, Arial\, sans-serif\; color: rgb(8\, 8\, 9)\; font-size: 15px\;"><span style="font-size:14px\;"><span style="font-family:arial\;">Step outside\, slow down\, and reconnect.</span></span></div>\n\n<div class="x14z9mp xat24cr x1lziwak x1vvkbs xtlvy1s" style="margin-inline: 0px\; overflow-wrap: break-word\; margin-bottom: 0px\; margin-top: 0.5em\; font-family: &quot\;Segoe UI Historic&quot\;\, &quot\;Segoe UI&quot\;\, Helvetica\, Arial\, sans-serif\; color: rgb(8\, 8\, 9)\; font-size: 15px\;"><span style="font-size:14px\;"><span style="font-family:arial\;">Join us for Forest &amp\; Flow&mdash\;a guided outdoor experience combining movement\, nature\, and education. Emily will lead a scenic hike around Clark&rsquo\;s Summit\, joined by special guest\, Forester Beth from Hickman Woods\, who will share insight on the local vegetation and surrounding ecosystem along the way. Once we make our way back to the summit\, Ashleigh will guide a 45-minute yoga flow overlooking the beautiful landscape.</span></span></div>\n\n<div class="x14z9mp xat24cr x1lziwak x1vvkbs xtlvy1s" style="margin-inline: 0px\; overflow-wrap: break-word\; margin-bottom: 0px\; margin-top: 0.5em\; font-family: &quot\;Segoe UI Historic&quot\;\, &quot\;Segoe UI&quot\;\, Helvetica\, Arial\, sans-serif\; color: rgb(8\, 8\, 9)\; font-size: 15px\;"><span style="font-size:14px\;"><span style="font-family:arial\;">We&rsquo\;ll meet and depart at 11:00 AM. Expect around a 2-hour experience.</span></span></div>\n\n<div class="x14z9mp xat24cr x1lziwak x1vvkbs xtlvy1s" style="margin-inline: 0px\; overflow-wrap: break-word\; margin-bottom: 0px\; margin-top: 0.5em\; font-family: &quot\;Segoe UI Historic&quot\;\, &quot\;Segoe UI&quot\;\, Helvetica\, Arial\, sans-serif\; color: rgb(8\, 8\, 9)\; font-size: 15px\;"><span style="font-size:14px\;"><span style="font-family:arial\;">Ages 16+ only. Please bring a yoga mat or towel and water.<br class="html-br" />\nSign up on the MindBody app<br class="html-br" />\nRain date TBD</span></span></div>\n
LOCATION:582 Evans St. Oil City\, PA
UID:e.2675.28254
SEQUENCE:3
DTSTAMP:20260423T174752Z
URL:https://www.franklinareachamber.org/events/details/forest-flow-with-emily-and-ashleigh-28254
END:VEVENT

END:VCALENDAR
