BEGIN:VCALENDAR
VERSION:2.0
PRODID:-//ChamberMaster//Event Calendar 2.0//EN
METHOD:PUBLISH
X-PUBLISHED-TTL:P3D
REFRESH-INTERVAL:P3D
CALSCALE:GREGORIAN
BEGIN:VEVENT
DTSTART:20260425T223000Z
DTEND:20260426T010000Z
X-MICROSOFT-CDO-ALLDAYEVENT:FALSE
SUMMARY:Food and Clothing Drive
DESCRIPTION:Doors open at 6:30 with show at 7.\n\nAll proceeds will be donated to The Pointe nonprofit in Oil City\, PA.
X-ALT-DESC;FMTTYPE=text/html:Doors open at 6:30 with show at 7.<br />\nAll proceeds will be donated to The Pointe nonprofit in Oil City\, PA.
LOCATION:The Spanish Moon Under Clifford's Carpets 19 E 1st St. Oil City\, PA
UID:e.2675.28257
SEQUENCE:3
DTSTAMP:20260423T150847Z
URL:https://www.franklinareachamber.org/events/details/food-and-clothing-drive-28257
END:VEVENT

END:VCALENDAR
