BEGIN:VCALENDAR
VERSION:2.0
PRODID:-//ChamberMaster//Event Calendar 2.0//EN
METHOD:PUBLISH
X-PUBLISHED-TTL:P3D
REFRESH-INTERVAL:P3D
CALSCALE:GREGORIAN
BEGIN:VEVENT
DTSTART:20260516T130000Z
DTEND:20260516T160000Z
X-MICROSOFT-CDO-ALLDAYEVENT:FALSE
SUMMARY:Fly Fishing Skills Development
DESCRIPTION:Keystone Flyfishers 6th Annual Fly Casting Skills Development\n\nFun Learning and Improving Fly Casting Skills\n\nAll 12-17 must be accompanied by an adult.
X-ALT-DESC;FMTTYPE=text/html:Keystone Flyfishers 6th Annual Fly Casting Skills Development<br />\nFun Learning and Improving Fly Casting Skills<br />\nAll 12-17 must be accompanied by an adult.
LOCATION:Cranberry High School 1 Education Dr. Seneca\, PA
UID:e.2675.28247
SEQUENCE:3
DTSTAMP:20260423T162920Z
URL:https://www.franklinareachamber.org/events/details/fly-fishing-skills-development-28247
END:VEVENT

END:VCALENDAR
