BEGIN:VCALENDAR
VERSION:2.0
PRODID:-//ChamberMaster//Event Calendar 2.0//EN
METHOD:PUBLISH
X-PUBLISHED-TTL:P3D
REFRESH-INTERVAL:P3D
CALSCALE:GREGORIAN
BEGIN:VEVENT
DTSTART:20260618T220000Z
DTEND:20260619T001500Z
X-MICROSOFT-CDO-ALLDAYEVENT:FALSE
SUMMARY:Christ Church Franklin Vacation Bible School
DESCRIPTION:Rain Forest Falls\, Exploring the Nature of God\n\nJune 15th through 19th. 6 - 8:15 pm.\n\nAges 4 through Grade 5 with 6th graders as volunteers.
X-ALT-DESC;FMTTYPE=text/html:Rain Forest Falls\, Exploring the Nature of God<br />\nJune 15th through 19th. 6 - 8:15 pm.<br />\nAges 4 through Grade 5 with 6th graders as volunteers.
LOCATION:First Baptist Church 1040 Buffalo St. Franklin\, PA 16323
UID:e.2675.28216
SEQUENCE:3
DTSTAMP:20260423T175454Z
URL:https://www.franklinareachamber.org/events/details/christ-church-franklin-vacation-bible-school-06-18-2026-28216
END:VEVENT

END:VCALENDAR
