BEGIN:VCALENDAR
VERSION:2.0
PRODID:-//ChamberMaster//Event Calendar 2.0//EN
METHOD:PUBLISH
X-PUBLISHED-TTL:P3D
REFRESH-INTERVAL:P3D
CALSCALE:GREGORIAN
BEGIN:VEVENT
DTSTART:20260219T223000Z
DTEND:20260220T003000Z
X-MICROSOFT-CDO-ALLDAYEVENT:FALSE
SUMMARY:Charcuterie Class
DESCRIPTION:Smoked Artisan Charcuterie Class\n\nat Sassy's Gift Boutique with Anne Bakker\n\nLearn how to select meats\, cheese\, nuts & jams.\n\nArrangements on a variety of Charcuterie Boards\n\nHow to Smoke Meat & Cheese Board\n\nTake Home a FULL Mango wood charcuterie board with Charcuterie tools\n\nUpgrade to a Large artisan smoking board w/ glass cloche & smoker for $450
X-ALT-DESC;FMTTYPE=text/html:<span style="font-size:14px\;"><span style="font-size:16px\;">Smoked Artisan Charcuterie Class</span><br />\nat Sassy&#39\;s Gift Boutique with Anne Bakker<br />\nLearn how to select meats\, cheese\, nuts &amp\; jams.<br />\nArrangements on a variety of Charcuterie Boards<br />\nHow to Smoke Meat &amp\; Cheese Board<br />\nTake Home a FULL Mango wood charcuterie board with Charcuterie tools<br />\nUpgrade to a Large artisan smoking board w/ glass cloche &amp\; smoker for $450</span>
LOCATION:Sassy's Gift Boutique 313 13th St. Franklin PA
UID:e.2675.27623
SEQUENCE:3
DTSTAMP:20260423T115441Z
URL:https://www.franklinareachamber.org/events/details/charcuterie-class-27623
END:VEVENT

END:VCALENDAR
