BEGIN:VCALENDAR
VERSION:2.0
PRODID:-//ChamberMaster//Event Calendar 2.0//EN
METHOD:PUBLISH
X-PUBLISHED-TTL:P3D
REFRESH-INTERVAL:P3D
CALSCALE:GREGORIAN
BEGIN:VEVENT
DTSTART:20260423T230000Z
DTEND:20260424T010000Z
X-MICROSOFT-CDO-ALLDAYEVENT:FALSE
SUMMARY:Card Party
DESCRIPTION:C.D. of A. invites you to a card party!\n\nGet ready for an evening of cards\, games\, laughter\, and good company!\n\nGet your table together and come!
X-ALT-DESC;FMTTYPE=text/html:C.D. of A. invites you to a card party!<br />\nGet ready for an evening of cards\, games\, laughter\, and good company!<br />\nGet your table together and come!
LOCATION:Cenedella Hall 952 Buffalo St. Franklin\, PA
UID:e.2675.28224
SEQUENCE:3
DTSTAMP:20260423T093159Z
URL:https://www.franklinareachamber.org/events/details/card-party-28224
END:VEVENT

END:VCALENDAR
