BEGIN:VCALENDAR
VERSION:2.0
PRODID:-//ChamberMaster//Event Calendar 2.0//EN
METHOD:PUBLISH
X-PUBLISHED-TTL:P3D
REFRESH-INTERVAL:P3D
CALSCALE:GREGORIAN
BEGIN:VEVENT
DTSTART:20260502T123000Z
DTEND:20260502T183000Z
X-MICROSOFT-CDO-ALLDAYEVENT:FALSE
SUMMARY:Camp Yard Sale
DESCRIPTION:Seneca Hills Bible Camp is cleaning out and giving items a second life!\n\nCash and Card accepted.
X-ALT-DESC;FMTTYPE=text/html:Seneca Hills Bible Camp is cleaning out and giving items a second life!<br />\nCash and Card accepted.
LOCATION:276 Damascus Rd. Polk\, PA
UID:e.2675.28253
SEQUENCE:3
DTSTAMP:20260423T162932Z
URL:https://www.franklinareachamber.org/events/details/camp-yard-sale-28253
END:VEVENT

END:VCALENDAR
