BEGIN:VCALENDAR
VERSION:2.0
PRODID:-//ChamberMaster//Event Calendar 2.0//EN
METHOD:PUBLISH
X-PUBLISHED-TTL:P3D
REFRESH-INTERVAL:P3D
CALSCALE:GREGORIAN
BEGIN:VEVENT
DTSTART:20260420T140000Z
DTEND:20260420T200000Z
X-MICROSOFT-CDO-ALLDAYEVENT:FALSE
SUMMARY:Blood Drive
DESCRIPTION:Community Blood Bank is hosting a blood drive at Clarion Hospital.\n\nDonate in April and be entered to win a Blackstone grill\, cover\, BBQ tool set\, cleaning kit\, & a grill conditioner.
X-ALT-DESC;FMTTYPE=text/html:Community Blood Bank is hosting a blood drive at Clarion Hospital.<br />\nDonate in April and be entered to win a Blackstone grill\, cover\, BBQ tool set\, cleaning kit\, &amp\; a grill conditioner.
LOCATION:Clarion Hospital 1 Hospital Dr. Clarion\, PA
UID:e.2675.28237
SEQUENCE:3
DTSTAMP:20260423T091237Z
URL:https://www.franklinareachamber.org/events/details/blood-drive-28237
END:VEVENT

END:VCALENDAR
