BEGIN:VCALENDAR
VERSION:2.0
PRODID:-//ChamberMaster//Event Calendar 2.0//EN
METHOD:PUBLISH
X-PUBLISHED-TTL:P3D
REFRESH-INTERVAL:P3D
CALSCALE:GREGORIAN
BEGIN:VEVENT
DTSTART:20260502T140000Z
DTEND:20260502T180000Z
X-MICROSOFT-CDO-ALLDAYEVENT:FALSE
SUMMARY:Art by Ann Witherup Rudegeair Pop-Up
DESCRIPTION:Stop by during May Mart to see Ann's latest work and find your perfect Mother's Day gift!
X-ALT-DESC;FMTTYPE=text/html:Stop by during May Mart to see Ann&#39\;s latest work and find your perfect Mother&#39\;s Day gift!
LOCATION:Victorian City Art & Frame 1273 Liberty St. Franklin\, PA
UID:e.2675.28244
SEQUENCE:3
DTSTAMP:20260423T163240Z
URL:https://www.franklinareachamber.org/events/details/art-by-ann-witherup-rudegeair-pop-up-28244
END:VEVENT

END:VCALENDAR
