BEGIN:VCALENDAR
VERSION:2.0
PRODID:-//ChamberMaster//Event Calendar 2.0//EN
METHOD:PUBLISH
X-PUBLISHED-TTL:P3D
REFRESH-INTERVAL:P3D
CALSCALE:GREGORIAN
BEGIN:VEVENT
DTSTART:20260223T220000Z
DTEND:20260223T230000Z
X-MICROSOFT-CDO-ALLDAYEVENT:FALSE
SUMMARY:Adult Craft Club
DESCRIPTION:Mini Spring Wreaths\n\nJoin us this Spring for more Adult Craft Club! This month\, we are making Mini Spring Wreaths. All sessions are free to attend & all materials will be provided.\n\nOil City has two dates to choose from\, and both programs will be held at 5:00 PM. Franklin's program will be held at 4:00 PM. Visit or call the Franklin Public Library (814-432-5062) or the Oil City Library (814-678-3072) to register today!
X-ALT-DESC;FMTTYPE=text/html:<span style="font-size:16px\;">Mini Spring Wreaths</span><br />\n<span style="font-size:14px\;">Join us this Spring for more Adult Craft Club! This month\, we are making Mini Spring Wreaths. All sessions are free to attend &amp\; all materials will be provided.<br />\nOil City has two dates to choose from\, and both programs will be held at 5:00 PM. Franklin&#39\;s program will be held at 4:00 PM. Visit or call the Franklin Public Library (814-432-5062) or the Oil City Library (814-678-3072) to register today!&nbsp\;</span>
LOCATION:ORLA's Oil City Library 2 Central Ave. Oil City\, PA
UID:e.2675.27628
SEQUENCE:3
DTSTAMP:20260423T120021Z
URL:https://www.franklinareachamber.org/events/details/adult-craft-club-27628
END:VEVENT

END:VCALENDAR
